BEGIN:VCALENDAR
VERSION:2.0
PRODID:icalendar-ruby
CALSCALE:GREGORIAN
METHOD:PUBLISH
BEGIN:VEVENT
DTSTAMP:20260423T205443Z
UID:8-801578@ulcgainesville.com
DTSTART:20261006T190000Z
DTEND:20261006T200000Z
CLASS:PUBLIC
CREATED:20260423T111027
DESCRIPTION:
LAST-MODIFIED:20260423T111027
LOCATION:
SUMMARY:The Bee
URL;VALUE=URI:https://www.ulcgainesville.com/events/the-bee/2026-10-06
ATTACH;FILENAME=website-photos2.png;FMTTYPE=image/png:https://dq5pwpg1q8ru0
 .cloudfront.net/2024/09/07/20/58/58/73c2f94d-62e9-4ffa-b3b5-1932039c8eba/w
 ebsite-photos2.png
END:VEVENT
END:VCALENDAR
