BEGIN:VCALENDAR
VERSION:2.0
PRODID:icalendar-ruby
CALSCALE:GREGORIAN
METHOD:PUBLISH
BEGIN:VEVENT
DTSTAMP:20260422T111341Z
UID:10-795368@ulcgainesville.com
DTSTART:20261009T013000Z
DTEND:20261009T023000Z
CLASS:PUBLIC
CREATED:20260421T181418
DESCRIPTION:
LAST-MODIFIED:20260421T181418
LOCATION:
SUMMARY:Campus Ministry Bible Study
URL;VALUE=URI:https://www.ulcgainesville.com/events/campus-ministry-bible-s
 tudy/2026-10-08
ATTACH;FILENAME=website-photos4.png;FMTTYPE=image/png:https://dq5pwpg1q8ru0
 .cloudfront.net/2024/09/07/20/57/50/0d7d0f4f-9c57-4bb9-b98a-d0ff441aea8a/w
 ebsite-photos4.png
END:VEVENT
END:VCALENDAR
