BEGIN:VCALENDAR
VERSION:2.0
PRODID:icalendar-ruby
CALSCALE:GREGORIAN
METHOD:PUBLISH
BEGIN:VEVENT
DTSTAMP:20260422T223319Z
UID:11-798305@ulcgainesville.com
DTSTART:20261011T020000Z
DTEND:20261011T030000Z
CLASS:PUBLIC
CREATED:20260422T140539
DESCRIPTION:
LAST-MODIFIED:20260422T140539
LOCATION:
SUMMARY:AA Meeting
URL;VALUE=URI:https://www.ulcgainesville.com/events/aa-meeting/2026-10-10
ATTACH;FILENAME=website-photos5.png;FMTTYPE=image/png:https://dq5pwpg1q8ru0
 .cloudfront.net/2024/09/07/21/00/56/6d4f631f-b2a5-4cfd-ab77-b02797cb33ce/w
 ebsite-photos5.png
END:VEVENT
END:VCALENDAR
